BEGIN:VCALENDAR
VERSION:2.0
PRODID:-//Saint Elias Antiochian Orthodox Church - ECPv5.2.1.1//NONSGML v1.0//EN
CALSCALE:GREGORIAN
METHOD:PUBLISH
X-WR-CALNAME:Saint Elias Antiochian Orthodox Church
X-ORIGINAL-URL:https://sainteliasny.com
X-WR-CALDESC:Events for Saint Elias Antiochian Orthodox Church
BEGIN:VTIMEZONE
TZID:America/New_York
BEGIN:DAYLIGHT
TZOFFSETFROM:-0500
TZOFFSETTO:-0400
TZNAME:EDT
DTSTART:20250309T070000
END:DAYLIGHT
BEGIN:STANDARD
TZOFFSETFROM:-0400
TZOFFSETTO:-0500
TZNAME:EST
DTSTART:20251102T060000
END:STANDARD
END:VTIMEZONE
BEGIN:VEVENT
DTSTART;TZID=America/New_York:20251224T170000
DTEND;TZID=America/New_York:20251224T193000
DTSTAMP:20260420T185117
CREATED:20251218T122409Z
LAST-MODIFIED:20251218T122409Z
UID:2733-1766595600-1766604600@sainteliasny.com
SUMMARY:Christmas Eve Orthros & Divine Liturgy
DESCRIPTION:
URL:https://sainteliasny.com/event/christmas-eve-orthros-divine-liturgy/
END:VEVENT
END:VCALENDAR