BEGIN:VCALENDAR
VERSION:2.0
PRODID:-//Saint Elias Antiochian Orthodox Church - ECPv5.2.1.1//NONSGML v1.0//EN
CALSCALE:GREGORIAN
METHOD:PUBLISH
X-WR-CALNAME:Saint Elias Antiochian Orthodox Church
X-ORIGINAL-URL:https://sainteliasny.com
X-WR-CALDESC:Events for Saint Elias Antiochian Orthodox Church
BEGIN:VTIMEZONE
TZID:America/New_York
BEGIN:DAYLIGHT
TZOFFSETFROM:-0500
TZOFFSETTO:-0400
TZNAME:EDT
DTSTART:20240310T070000
END:DAYLIGHT
BEGIN:STANDARD
TZOFFSETFROM:-0400
TZOFFSETTO:-0500
TZNAME:EST
DTSTART:20241103T060000
END:STANDARD
END:VTIMEZONE
BEGIN:VEVENT
DTSTART;TZID=America/New_York:20240814T190000
DTEND;TZID=America/New_York:20240814T200000
DTSTAMP:20260423T094800
CREATED:20240804T172818Z
LAST-MODIFIED:20240814T001731Z
UID:1881-1723662000-1723665600@sainteliasny.com
SUMMARY:Divine Liturgy-Feast of the Dormition of the Theotokos
DESCRIPTION:Divine Liturgy followed by potluck.
URL:https://sainteliasny.com/event/divine-liturgy-feast-of-the-dormition-of-the-theotokos/
END:VEVENT
END:VCALENDAR