BEGIN:VCALENDAR
VERSION:2.0
PRODID:-//Saint Elias Antiochian Orthodox Church - ECPv5.2.1.1//NONSGML v1.0//EN
CALSCALE:GREGORIAN
METHOD:PUBLISH
X-WR-CALNAME:Saint Elias Antiochian Orthodox Church
X-ORIGINAL-URL:https://sainteliasny.com
X-WR-CALDESC:Events for Saint Elias Antiochian Orthodox Church
BEGIN:VTIMEZONE
TZID:America/New_York
BEGIN:DAYLIGHT
TZOFFSETFROM:-0500
TZOFFSETTO:-0400
TZNAME:EDT
DTSTART:20240310T070000
END:DAYLIGHT
BEGIN:STANDARD
TZOFFSETFROM:-0400
TZOFFSETTO:-0500
TZNAME:EST
DTSTART:20241103T060000
END:STANDARD
END:VTIMEZONE
BEGIN:VEVENT
DTSTART;TZID=America/New_York:20240422T190000
DTEND;TZID=America/New_York:20240422T203000
DTSTAMP:20260421T034034
CREATED:20240318T150317Z
LAST-MODIFIED:20240318T150317Z
UID:1742-1713812400-1713817800@sainteliasny.com
SUMMARY:Great Compline
DESCRIPTION:
URL:https://sainteliasny.com/event/great-compline/2024-04-22/
END:VEVENT
END:VCALENDAR