BEGIN:VCALENDAR
VERSION:2.0
PRODID:-//Saint Elias Antiochian Orthodox Church - ECPv5.2.1.1//NONSGML v1.0//EN
CALSCALE:GREGORIAN
METHOD:PUBLISH
X-WR-CALNAME:Saint Elias Antiochian Orthodox Church
X-ORIGINAL-URL:https://sainteliasny.com
X-WR-CALDESC:Events for Saint Elias Antiochian Orthodox Church
BEGIN:VTIMEZONE
TZID:America/New_York
BEGIN:DAYLIGHT
TZOFFSETFROM:-0500
TZOFFSETTO:-0400
TZNAME:EDT
DTSTART:20240310T070000
END:DAYLIGHT
BEGIN:STANDARD
TZOFFSETFROM:-0400
TZOFFSETTO:-0500
TZNAME:EST
DTSTART:20241103T060000
END:STANDARD
END:VTIMEZONE
BEGIN:VEVENT
DTSTART;TZID=America/New_York:20241208T120000
DTEND;TZID=America/New_York:20241208T170000
DTSTAMP:20260420T190526
CREATED:20240304T024611Z
LAST-MODIFIED:20240927T164102Z
UID:1669-1733659200-1733677200@sainteliasny.com
SUMMARY:Holiday Bazaar
DESCRIPTION:
URL:https://sainteliasny.com/event/holiday-bazaar-3-2024-12-08/2024-12-08/
END:VEVENT
END:VCALENDAR