BEGIN:VCALENDAR
VERSION:2.0
PRODID:-//Saint Elias Antiochian Orthodox Church - ECPv5.2.1.1//NONSGML v1.0//EN
CALSCALE:GREGORIAN
METHOD:PUBLISH
X-WR-CALNAME:Saint Elias Antiochian Orthodox Church
X-ORIGINAL-URL:https://sainteliasny.com
X-WR-CALDESC:Events for Saint Elias Antiochian Orthodox Church
BEGIN:VTIMEZONE
TZID:America/New_York
BEGIN:DAYLIGHT
TZOFFSETFROM:-0500
TZOFFSETTO:-0400
TZNAME:EDT
DTSTART:20240310T070000
END:DAYLIGHT
BEGIN:STANDARD
TZOFFSETFROM:-0400
TZOFFSETTO:-0500
TZNAME:EST
DTSTART:20241103T060000
END:STANDARD
END:VTIMEZONE
BEGIN:VEVENT
DTSTART;TZID=America/New_York:20240426T190000
DTEND;TZID=America/New_York:20240426T203000
DTSTAMP:20260421T015208
CREATED:20240318T170551Z
LAST-MODIFIED:20240318T170551Z
UID:1766-1714158000-1714163400@sainteliasny.com
SUMMARY:Little Compline w/Canon of the Raising of Lazarus
DESCRIPTION:
URL:https://sainteliasny.com/event/little-compline-w-canon-of-the-raising-of-lazarus/
END:VEVENT
END:VCALENDAR