BEGIN:VCALENDAR
VERSION:2.0
PRODID:-//Saint Elias Antiochian Orthodox Church - ECPv5.2.1.1//NONSGML v1.0//EN
CALSCALE:GREGORIAN
METHOD:PUBLISH
X-WR-CALNAME:Saint Elias Antiochian Orthodox Church
X-ORIGINAL-URL:https://sainteliasny.com
X-WR-CALDESC:Events for Saint Elias Antiochian Orthodox Church
BEGIN:VTIMEZONE
TZID:America/New_York
BEGIN:DAYLIGHT
TZOFFSETFROM:-0500
TZOFFSETTO:-0400
TZNAME:EDT
DTSTART:20240310T070000
END:DAYLIGHT
BEGIN:STANDARD
TZOFFSETFROM:-0400
TZOFFSETTO:-0500
TZNAME:EST
DTSTART:20241103T060000
END:STANDARD
END:VTIMEZONE
BEGIN:VEVENT
DTSTART;TZID=America/New_York:20240504T220000
DTEND;TZID=America/New_York:20240504T233000
DTSTAMP:20260421T034200
CREATED:20240319T141854Z
LAST-MODIFIED:20240319T141854Z
UID:1790-1714860000-1714865400@sainteliasny.com
SUMMARY:Rush Service followed by Paschal Orthros & Divine Liturgy
DESCRIPTION:
URL:https://sainteliasny.com/event/rush-service-followed-by-paschal-orthros-divine-liturgy/
END:VEVENT
END:VCALENDAR